BEGIN:VCALENDAR
VERSION:2.0
PRODID:-//Samanta Borzi - ECPv6.15.20//NONSGML v1.0//EN
CALSCALE:GREGORIAN
METHOD:PUBLISH
X-WR-CALNAME:Samanta Borzi
X-ORIGINAL-URL:https://samantaborzi.be
X-WR-CALDESC:Évènements pour Samanta Borzi
REFRESH-INTERVAL;VALUE=DURATION:PT1H
X-Robots-Tag:noindex
X-PUBLISHED-TTL:PT1H
BEGIN:VTIMEZONE
TZID:Europe/Paris
BEGIN:DAYLIGHT
TZOFFSETFROM:+0100
TZOFFSETTO:+0200
TZNAME:CEST
DTSTART:20250330T010000
END:DAYLIGHT
BEGIN:STANDARD
TZOFFSETFROM:+0200
TZOFFSETTO:+0100
TZNAME:CET
DTSTART:20251026T010000
END:STANDARD
BEGIN:DAYLIGHT
TZOFFSETFROM:+0100
TZOFFSETTO:+0200
TZNAME:CEST
DTSTART:20260329T010000
END:DAYLIGHT
BEGIN:STANDARD
TZOFFSETFROM:+0200
TZOFFSETTO:+0100
TZNAME:CET
DTSTART:20261025T010000
END:STANDARD
BEGIN:DAYLIGHT
TZOFFSETFROM:+0100
TZOFFSETTO:+0200
TZNAME:CEST
DTSTART:20270328T010000
END:DAYLIGHT
BEGIN:STANDARD
TZOFFSETFROM:+0200
TZOFFSETTO:+0100
TZNAME:CET
DTSTART:20271031T010000
END:STANDARD
END:VTIMEZONE
BEGIN:VEVENT
DTSTART;TZID=Europe/Paris:20260423T180000
DTEND;TZID=Europe/Paris:20260423T203000
DTSTAMP:20260423T014826
CREATED:20251027T181834Z
LAST-MODIFIED:20260313T163421Z
UID:10000714-1776967200-1776976200@samantaborzi.be
SUMMARY:Kundalini Activation - Soin de guérison - Yourte (SOLDOUT)
DESCRIPTION:Informations pratiques : \n– Rappel de session : Une semaine avant votre session\, vous recevrez un mail contenant toutes les informations pratiques nécessaires. \n– Tenue et équipement : Veuillez venir en tenue souple de couleurs claires et n’oubliez pas d’apporter une bouteille d’eau. \n– Liste d’attente : Si une session est complète\, vous avez la possibilité de vous inscrire sur une liste d’attente. Merci de m’en informer par SMS au 04 77 78 49 23. \n– Politique d’annulation : Voir les conditions générales de vente \n– Mise à jour de l’agenda : L’agenda et les disponibilités des sessions sont régulièrement actualisés. \nFacilitatrice : \nVos sessions seront animées par Samanta\, qui vous accompagnera avec bienveillance tout au long de cette expérience. \nAdresse du lieu de la session : \n– Yourte à Dalhem : 1\, Grise-Pierre\, 4606 St-André (Dalhem) \nHoraire et investissement : \n– Horaire : De 18h à 20h30 \nPour toute question ou information complémentaire\, n’hésitez pas à me contacter au 04 77 78 49 23.
URL:https://samantaborzi.be/event/kundalini-activation-soin-de-guerison-yourte-7/
LOCATION:Dalhem\, Grise-Pierre 1\, St-André (Dalhem)\, 4606\, Belgique
CATEGORIES:KA AKA - Liège
END:VEVENT
END:VCALENDAR